BEGIN:VCALENDAR
VERSION:2.0
PRODID:icalendar-ruby
CALSCALE:GREGORIAN
BEGIN:VEVENT
DTSTAMP:20210119T154306Z
UID:34f51639-3d9d-4470-aa7c-40821379cb3e
DTSTART;TZID=Pacific/Auckland:20210124T124500
DTEND;TZID=Pacific/Auckland:20210124T131500
DESCRIPTION:Property ID# 496419
SUMMARY:Openhome for 91 Mapua Drive
END:VEVENT
END:VCALENDAR
