BEGIN:VCALENDAR
VERSION:2.0
PRODID:icalendar-ruby
CALSCALE:GREGORIAN
BEGIN:VEVENT
DTSTAMP:20210119T154233Z
UID:5b76cd7a-0443-42ae-b9d3-4473be11c4ce
DTSTART;TZID=Pacific/Auckland:20210124T133000
DTEND;TZID=Pacific/Auckland:20210124T140000
DESCRIPTION:Property ID# 499688
SUMMARY:Openhome for 106 Bateup Road
END:VEVENT
END:VCALENDAR
