BEGIN:VCALENDAR
VERSION:2.0
PRODID:icalendar-ruby
CALSCALE:GREGORIAN
BEGIN:VEVENT
DTSTAMP:20210119T155049Z
UID:f85f0951-7b33-4394-b5fa-469e424b330e
DTSTART;TZID=Pacific/Auckland:20210124T131500
DTEND;TZID=Pacific/Auckland:20210124T134500
DESCRIPTION:Property ID# 498572
SUMMARY:Openhome for 5A Hilliard Street
END:VEVENT
END:VCALENDAR
