BEGIN:VCALENDAR
VERSION:2.0
PRODID:icalendar-ruby
CALSCALE:GREGORIAN
BEGIN:VEVENT
DTSTAMP:20210119T154244Z
UID:ccf7da5c-51f9-42b9-a7c8-aa12088a34a0
DTSTART;TZID=Pacific/Auckland:20210121T170000
DTEND;TZID=Pacific/Auckland:20210121T173000
DESCRIPTION:Property ID# 498573
SUMMARY:Openhome for 128 Barnett Avenue
END:VEVENT
END:VCALENDAR
