BEGIN:VCALENDAR
VERSION:2.0
PRODID:icalendar-ruby
CALSCALE:GREGORIAN
BEGIN:VEVENT
DTSTAMP:20210119T155047Z
UID:8474c081-c468-40ae-81ca-257a178b2ae6
DTSTART;TZID=Pacific/Auckland:20210120T170000
DTEND;TZID=Pacific/Auckland:20210120T173000
DESCRIPTION:Property ID# 499339
SUMMARY:Openhome for 8 Fountain Place
END:VEVENT
END:VCALENDAR
