BEGIN:VCALENDAR
VERSION:2.0
PRODID:icalendar-ruby
CALSCALE:GREGORIAN
BEGIN:VEVENT
DTSTAMP:20260423T154347Z
UID:9aed62c6-c0d6-4746-972a-8e593d757100
DTSTART;VALUE=DATE:20221019
DESCRIPTION:Property ID# 543467\, Locatoin: 208 High Street\, Motueka\, Tim
 e: 4:00PM
SUMMARY:Auction for 
END:VEVENT
END:VCALENDAR
